BEGIN:VCALENDAR
VERSION:2.0
PRODID:-//Tukios.com/
BEGIN:VEVENT
UID:c10ec9fd-ea59-4caa-8420-4422ecfb7c5f@www.frankpatti.com
DTSTAMP:20260419T195148Z
DTSTART:20260424T200000Z
DTEND:20260425T000000Z
SUMMARY:Visitation
DESCRIPTION:
URL:https://www.frankpatti.com/obituaries/ana-cabreja
LOCATION: 327 Main Street  Fort Lee NJ 07024
GEO:40.8529437;-73.9732223
END:VEVENT
END:VCALENDAR